BEGIN:VCALENDAR
VERSION:2.0
PRODID:-//Springfield Sports Commission - ECPv6.11.2.1//NONSGML v1.0//EN
CALSCALE:GREGORIAN
METHOD:PUBLISH
X-WR-CALNAME:Springfield Sports Commission
X-ORIGINAL-URL:https://www.old.springfieldmosports.org
X-WR-CALDESC:Events for Springfield Sports Commission
REFRESH-INTERVAL;VALUE=DURATION:PT1H
X-Robots-Tag:noindex
X-PUBLISHED-TTL:PT1H
BEGIN:VTIMEZONE
TZID:America/Chicago
BEGIN:DAYLIGHT
TZOFFSETFROM:-0600
TZOFFSETTO:-0500
TZNAME:CDT
DTSTART:20220313T080000
END:DAYLIGHT
BEGIN:STANDARD
TZOFFSETFROM:-0500
TZOFFSETTO:-0600
TZNAME:CST
DTSTART:20221106T070000
END:STANDARD
END:VTIMEZONE
BEGIN:VEVENT
DTSTART;TZID=America/Chicago:20220605T173500
DTEND;TZID=America/Chicago:20220605T203500
DTSTAMP:20260424T072417
CREATED:20220504T204847Z
LAST-MODIFIED:20220504T204847Z
UID:2048-1654450500-1654461300@www.old.springfieldmosports.org
SUMMARY:Springfield Cardinals vs. Arkansas Travelers
DESCRIPTION:Game Highlight (3): Purina Bark in the Park \n\n\n\n\n\n\nAll dogs are encouraged to bring their owners (if they’ve been good of course) for some Sunday Cardinals Baseball! | Presented By Purina \n\nGame Highlight: Hiland Dairy Ice Cream Sunday\n\n\n\n\n\n\n\nAll kids can enjoy free ice cream from Hiland Dairy before every Sunday game! | Presented By Hiland Dairy \n\nGame Highlight: MOST 529 Kids Run the Bases\n\n\n\n\n\n\n\nAll kids can run the bases just like the Cardinals after every Sunday game! | Presented By MOST 529 \n\nPromotion: St. Louis Cardinals Paul Goldschmidt Bobblehead/Pet Photo Frame Giveaway\n\n\n\n\n\n\n\n\n\n\n\nDon’t miss out on this Busch Stadium Exclusive showing off your two best friends… Goldy and your dog! | Presented By Purina | 2\,000
URL:https://www.old.springfieldmosports.org/event/springfield-cardinals-vs-arkansas-travelers-6/
LOCATION:Hammons Field\, 955 E. Trafficway\, Springfield\, MO\, 65802\, United States
CATEGORIES:Community Events
ATTACH;FMTTYPE=image/png:https://www.old.springfieldmosports.org/wp-content/uploads/2019/07/SGF-Cards-e1570115096864.png
END:VEVENT
BEGIN:VEVENT
DTSTART;TZID=America/Chicago:20220604T183500
DTEND;TZID=America/Chicago:20220604T213000
DTSTAMP:20260424T072417
CREATED:20220504T204651Z
LAST-MODIFIED:20220504T204651Z
UID:2047-1654367700-1654378200@www.old.springfieldmosports.org
SUMMARY:Springfield Cardinals vs. Arkansas Travelers
DESCRIPTION:Game Highlight: Specialty Jersey Auction Ends \n\n\n\n\n\n\nLast call to bid on game-worn Specialty Jerseys to benefit Springfield Sertoma. | Presented By Springfield Sertoma \n\nPromotion: Central Bank of the Ozarks Heather Performance Trucker Cap Giveaway\n\n\n\n\n\n\n\n\n\n\n\nEveryone always needs a new Cardinals cap! Don’t miss this year’s must-have Central Bank of the Ozarks Cardinals Cap\, featuring a comfortable and stylish Heather Performance Trucker look. | Presented By Central Bank of the Ozarks | 2\,000
URL:https://www.old.springfieldmosports.org/event/springfield-cardinals-vs-arkansas-travelers-5/
LOCATION:Hammons Field\, 955 E. Trafficway\, Springfield\, MO\, 65802\, United States
CATEGORIES:Community Events
ATTACH;FMTTYPE=image/png:https://www.old.springfieldmosports.org/wp-content/uploads/2019/07/SGF-Cards-e1570115096864.png
END:VEVENT
BEGIN:VEVENT
DTSTART;TZID=America/Chicago:20220603T190000
DTEND;TZID=America/Chicago:20220603T220000
DTSTAMP:20260424T072417
CREATED:20220504T204133Z
LAST-MODIFIED:20220504T204133Z
UID:2046-1654282800-1654293600@www.old.springfieldmosports.org
SUMMARY:Springfield Cardinals vs. Arkansas Travelers
DESCRIPTION:Game Highlight (2): Country Music Fireworks \n\n\n\n\n\n\nBust out those boots for some Country Music Fireworks after the game! \n\nGame Highlight: Specialty Jersey Auction Begins\n\n\n\n\n\n\n\nFans can bid on game-worn Specialty Jerseys to benefit Springfield Sertoma. Auction ends 6/4. | Presented By Springfield Sertoma
URL:https://www.old.springfieldmosports.org/event/springfield-cardinals-vs-arkansas-travelers-4/
LOCATION:Hammons Field\, 955 E. Trafficway\, Springfield\, MO\, 65802\, United States
CATEGORIES:Community Events
ATTACH;FMTTYPE=image/png:https://www.old.springfieldmosports.org/wp-content/uploads/2019/07/SGF-Cards-e1570115096864.png
END:VEVENT
BEGIN:VEVENT
DTSTART;TZID=America/Chicago:20220602T190000
DTEND;TZID=America/Chicago:20220602T220000
DTSTAMP:20260424T072417
CREATED:20220504T203800Z
LAST-MODIFIED:20220504T203800Z
UID:2045-1654196400-1654207200@www.old.springfieldmosports.org
SUMMARY:Springfield Cardinals vs. Arkansas Travelers
DESCRIPTION:Game Highlight: Thirsty Thursday(TM) \n\n\n\n\n\n\nFans 21+ can enjoy drink specials on adult beverages all game every Thursday! \n\nPromotion: Henry’s Towing Cardinals Keychain Giveaway\n\n\n\n\n\n\n\n\n\n\nCarry the Cardinals everywhere you go with the Henry’s Towing Cardinals Keychain! | Presented By Henry’s Towing | 2\,000
URL:https://www.old.springfieldmosports.org/event/springfield-cardinals-vs-arkansas-travelers-3/
LOCATION:Hammons Field\, 955 E. Trafficway\, Springfield\, MO\, 65802\, United States
CATEGORIES:Community Events
ATTACH;FMTTYPE=image/png:https://www.old.springfieldmosports.org/wp-content/uploads/2019/07/SGF-Cards-e1570115096864.png
END:VEVENT
BEGIN:VEVENT
DTSTART;TZID=America/Chicago:20220601T183500
DTEND;TZID=America/Chicago:20220601T210000
DTSTAMP:20260424T072417
CREATED:20220504T203621Z
LAST-MODIFIED:20220504T203621Z
UID:2044-1654108500-1654117200@www.old.springfieldmosports.org
SUMMARY:Springfield Cardinals vs. Arkansas Travelers
DESCRIPTION:Game Highlight: Purina Woof Wednesday \n\n\n\n\n\n\nBaseball and your best friend! Dogs are welcome every Wednesday night game. Please enter through Gate 3 with your good boy or girl. | Presented By Purina
URL:https://www.old.springfieldmosports.org/event/springfield-cardinals-vs-arkansas-travelers-2/
LOCATION:Hammons Field\, 955 E. Trafficway\, Springfield\, MO\, 65802\, United States
CATEGORIES:Community Events
ATTACH;FMTTYPE=image/png:https://www.old.springfieldmosports.org/wp-content/uploads/2019/07/SGF-Cards-e1570115096864.png
END:VEVENT
BEGIN:VEVENT
DTSTART;VALUE=DATE:20220601
DTEND;VALUE=DATE:20220620
DTSTAMP:20260424T072417
CREATED:20220502T175733Z
LAST-MODIFIED:20220502T175733Z
UID:2004-1654041600-1655683199@www.old.springfieldmosports.org
SUMMARY:31st Annual CoxHealth Virtual Medical Mile and 5K Run/Walk
DESCRIPTION:CoxHealth is proud to present our 31st annual Medical Mile and 5K Run/Walk. This event brings 600+ virtual participants each year and 100% of the proceeds support Children’s Miracle Network Hospitals and the local families they serve. \nThis unique race continues to be a tremendous opportunity for our community to help children and families in need. The Medical Mile race is a continually growing event put on each year by CoxHealth Fitness Centers in Springfield. \nEnjoy supporting this event by running\, walking\, skipping or hopping at your own pace. Complete your choice of distance on June 1-19th. This event is not only a great way to show your support to the children and families in need\, but is also an opportunity to benefit physically and mentally.
URL:https://www.old.springfieldmosports.org/event/31st-annual-coxhealth-virtual-medical-mile-and-5k-run-walk/
LOCATION:Springfield\, MO\, United States
CATEGORIES:Community Events
ATTACH;FMTTYPE=image/jpeg:https://www.old.springfieldmosports.org/wp-content/uploads/2019/05/logo-cox-health.jpg
END:VEVENT
BEGIN:VEVENT
DTSTART;TZID=America/Chicago:20220531T183500
DTEND;TZID=America/Chicago:20220531T210000
DTSTAMP:20260424T072418
CREATED:20220504T203504Z
LAST-MODIFIED:20220504T203504Z
UID:2043-1654022100-1654030800@www.old.springfieldmosports.org
SUMMARY:Springfield Cardinals vs. Arkansas Travelers
DESCRIPTION:Game Highlight: Great Southern Bank $2 Tuesday \n\n\n\n\n\n\nEnjoy delicious ballpark hot dogs and bratwursts for just $2 every Tuesday! | Presented By Great Southern Bank
URL:https://www.old.springfieldmosports.org/event/springfield-cardinals-vs-arkansas-travelers/
LOCATION:Hammons Field\, 955 E. Trafficway\, Springfield\, MO\, 65802\, United States
CATEGORIES:Community Events
ATTACH;FMTTYPE=image/png:https://www.old.springfieldmosports.org/wp-content/uploads/2019/07/SGF-Cards-e1570115096864.png
END:VEVENT
BEGIN:VEVENT
DTSTART;VALUE=DATE:20220530
DTEND;VALUE=DATE:20220605
DTSTAMP:20260424T072418
CREATED:20211011T145938Z
LAST-MODIFIED:20220309T152953Z
UID:1825-1653868800-1654387199@www.old.springfieldmosports.org
SUMMARY:MSHSAA Baseball Championships
DESCRIPTION:The Springfield Sports Commission welcomes the 73rd MSHSAA Baseball Championships to US Baseball Park!
URL:https://www.old.springfieldmosports.org/event/mshsaa-baseball-championships/
LOCATION:US Baseball\, 4400 N. 19th Street\, Ozark\, MO\, 65721\, United States
CATEGORIES:Upcoming Events
ATTACH;FMTTYPE=image/jpeg:https://www.old.springfieldmosports.org/wp-content/uploads/2019/01/MSHSAA-e1562615240977.jpg
END:VEVENT
BEGIN:VEVENT
DTSTART;VALUE=DATE:20220527
DTEND;VALUE=DATE:20220529
DTSTAMP:20260424T072418
CREATED:20211011T145810Z
LAST-MODIFIED:20211011T145810Z
UID:1824-1653609600-1653782399@www.old.springfieldmosports.org
SUMMARY:MSHSAA Boys Tennis Team Championships
DESCRIPTION:The MSHSAA Boys Tennis Team Championships will be held at Cooper Tennis Complex from May 27-28\, 2022.
URL:https://www.old.springfieldmosports.org/event/mshsaa-boys-tennis-team-championships/
LOCATION:Cooper Tennis Complex\, 2331 E Pythian St\, Springfield\, MO\, 65802\, United States
CATEGORIES:Upcoming Events
ATTACH;FMTTYPE=image/jpeg:https://www.old.springfieldmosports.org/wp-content/uploads/2019/01/MSHSAA-e1562615240977.jpg
END:VEVENT
BEGIN:VEVENT
DTSTART;VALUE=DATE:20220520
DTEND;VALUE=DATE:20220522
DTSTAMP:20260424T072418
CREATED:20211011T145636Z
LAST-MODIFIED:20211011T145636Z
UID:1823-1653004800-1653177599@www.old.springfieldmosports.org
SUMMARY:MSHSAA Spring Softball Championship
DESCRIPTION:The Springfield Sports Commission welcomes the MSHSAA Spring State Softball Championship to Killian Softball Complex!
URL:https://www.old.springfieldmosports.org/event/mshsaa-spring-softball-championship/
LOCATION:Killian Softball Complex\, 2141 E Pythian St.\, Springfield\, MO\, 65802\, United States
CATEGORIES:Upcoming Events
ATTACH;FMTTYPE=image/jpeg:https://www.old.springfieldmosports.org/wp-content/uploads/2019/01/MSHSAA-e1562615240977.jpg
END:VEVENT
BEGIN:VEVENT
DTSTART;VALUE=DATE:20220519
DTEND;VALUE=DATE:20220522
DTSTAMP:20260424T072418
CREATED:20211011T145450Z
LAST-MODIFIED:20211011T145450Z
UID:1822-1652918400-1653177599@www.old.springfieldmosports.org
SUMMARY:MSHSAA Boys Tennis Individual Championships
DESCRIPTION:The MSHSAA Boys State Tennis Individual Championships will be held at Cooper Tennis Complex from May 19-21\, 2022.
URL:https://www.old.springfieldmosports.org/event/mshsaa-boys-tennis-individual-championships/
LOCATION:Cooper Tennis Complex\, 2331 E Pythian St\, Springfield\, MO\, 65802\, United States
CATEGORIES:Upcoming Events
ATTACH;FMTTYPE=image/jpeg:https://www.old.springfieldmosports.org/wp-content/uploads/2019/01/MSHSAA-e1562615240977.jpg
END:VEVENT
BEGIN:VEVENT
DTSTART;TZID=America/Chicago:20220516T180000
DTEND;TZID=America/Chicago:20220516T200000
DTSTAMP:20260424T072418
CREATED:20220502T204632Z
LAST-MODIFIED:20220502T204632Z
UID:2020-1652724000-1652731200@www.old.springfieldmosports.org
SUMMARY:BigShots Golf Summer League
DESCRIPTION:Sign up here: http://sevn.ly/xzHwSrX6\nAssemble your team and compete to WIN! Join our 2022 Summer Leagues every Monday night\, May 16 through August 1. Sign up for this 4-person scramble and play 9-18 holes on our virtual courses every week! 8 weeks of play with playoffs the last two weeks. We have some sweet prizes\, including a trophy and bragging rights for the winning team. Let’s go\, SHOT TAKERS!\n*BYE WEEKS: May 30 (Memorial Day) and July 4 (Independence Day.)\nDetails:\n• $250 per 4-person team ($62.50 per person for all 10 weeks of play which = $3.12/hr per person. What a deal!\n• 6:00pm-6:30pm: Practice\n• 6:30-8:00pm: PLAY ON!\n• League play: May 16\, May 23\, June 6\, June 13\, June 20\, June 27\, July 11\, July 18\, July 25\, and August 1. *NO LEAGUE PLAY MAY 30 (Memorial Day) OR JULY 4 (Independence Day.)\n• PLAYOFFS: July 25 and August 1\nSign up here: http://sevn.ly/xzHwSrX6\nEmail Amber Ivey at amber.ivey@ohospitalitymanagement.com with any questions!
URL:https://www.old.springfieldmosports.org/event/bigshots-golf-summer-league/
LOCATION:BigShots Golf\, 1930 E. Kearney\, Springfield\, MO\, 65803\, United States
CATEGORIES:Community Events
ATTACH;FMTTYPE=image/jpeg:https://www.old.springfieldmosports.org/wp-content/uploads/2021/09/BigShots-Golf-Logo-Full-Color.jpg
END:VEVENT
BEGIN:VEVENT
DTSTART;VALUE=DATE:20220516
DTEND;VALUE=DATE:20220518
DTSTAMP:20260424T072418
CREATED:20211011T145241Z
LAST-MODIFIED:20211011T145241Z
UID:1821-1652659200-1652831999@www.old.springfieldmosports.org
SUMMARY:MSHSAA Boys Golf Championships
DESCRIPTION:The Springfield Sports Commission welcomes the Class 1 and Class 2 Boys Golf Championships to southwest Missouri! Class 1 will be played at Fremont Hills in Nixa and Class 2 will be played at Silo Ridge in Bolivar.
URL:https://www.old.springfieldmosports.org/event/mshsaa-boys-golf-championships/
LOCATION:Springfield\, MO\, United States
CATEGORIES:Upcoming Events
ATTACH;FMTTYPE=image/jpeg:https://www.old.springfieldmosports.org/wp-content/uploads/2019/01/MSHSAA-e1562615240977.jpg
END:VEVENT
BEGIN:VEVENT
DTSTART;TZID=America/Chicago:20220515T180000
DTEND;TZID=America/Chicago:20220515T210000
DTSTAMP:20260424T072418
CREATED:20220503T184304Z
LAST-MODIFIED:20220503T184304Z
UID:2042-1652637600-1652648400@www.old.springfieldmosports.org
SUMMARY:Springfield Cardinals vs. Amarillo
DESCRIPTION:Game Highlight (2): Hiland Dairy Ice Cream Sunday \n\n\n\n\n\n\nAll kids can enjoy free ice cream from Hiland Dairy before every Sunday game! | Presented By Hiland Dairy \n\nGame Highlight: MOST 529 Kids Run the Bases\n\n\n\n\n\n\n\nAll kids can run the bases just like the Cardinals after every Sunday game! | Presented By MOST 529
URL:https://www.old.springfieldmosports.org/event/springfield-cardinals-vs-amarillo-6/
LOCATION:Hammons Field\, 955 E. Trafficway\, Springfield\, MO\, 65802\, United States
CATEGORIES:Community Events
ATTACH;FMTTYPE=image/png:https://www.old.springfieldmosports.org/wp-content/uploads/2019/07/SGF-Cards-e1570115096864.png
END:VEVENT
BEGIN:VEVENT
DTSTART;TZID=America/Chicago:20220515T140000
DTEND;TZID=America/Chicago:20220515T170000
DTSTAMP:20260424T072418
CREATED:20220502T181654Z
LAST-MODIFIED:20220502T181815Z
UID:2007-1652623200-1652634000@www.old.springfieldmosports.org
SUMMARY:Contender Valorant Championship
DESCRIPTION:One team per store battles for $300 and the Contender Valorant Trophy!\n\nTalk to your local manager about the ways to represent your center!\n\nTournament Link: https://play.toornament.com/…/tourn…/5594940891729108992\nAll matches will be reported on the Cross Center Discord: https://discord.gg/DnAK5FNnzp
URL:https://www.old.springfieldmosports.org/event/contender-valorant-championship/
LOCATION:Contender eSports\, 3010 S National Ave.\, Springfield\, MO\, 65804\, United States
CATEGORIES:Community Events
ATTACH;FMTTYPE=image/jpeg:https://www.old.springfieldmosports.org/wp-content/uploads/2021/03/Contender-eSPORTS-FINAL.jpg
END:VEVENT
BEGIN:VEVENT
DTSTART;TZID=America/Chicago:20220514T180500
DTEND;TZID=America/Chicago:20220514T210000
DTSTAMP:20260424T072418
CREATED:20220503T164822Z
LAST-MODIFIED:20220503T164822Z
UID:2040-1652551500-1652562000@www.old.springfieldmosports.org
SUMMARY:Springfield Cardinals vs. Amarillo
DESCRIPTION:Game Highlight: Half-Way to Halloween Specialty Jersey Auction Ends \n\n\n\n\n\n\nLast call to bid on the Cardinals game-worn Half-Way to Halloween Specialty Jerseys\, benefiting Isabel’s House.
URL:https://www.old.springfieldmosports.org/event/springfield-cardinals-vs-amarillo-5/
LOCATION:Hammons Field\, 955 E. Trafficway\, Springfield\, MO\, 65802\, United States
CATEGORIES:Community Events
ATTACH;FMTTYPE=image/png:https://www.old.springfieldmosports.org/wp-content/uploads/2019/07/SGF-Cards-e1570115096864.png
END:VEVENT
BEGIN:VEVENT
DTSTART;TZID=America/Chicago:20220513T183500
DTEND;TZID=America/Chicago:20220513T210000
DTSTAMP:20260424T072418
CREATED:20220503T164643Z
LAST-MODIFIED:20220503T164643Z
UID:2039-1652466900-1652475600@www.old.springfieldmosports.org
SUMMARY:Springfield Cardinals vs. Amarillo
DESCRIPTION:Game Highlight (3): Friday the 13th Fireworks \n\n\n\n\n\n\nEnjoy a spooky fireworks show (don’t worry… not that spooky) after our Half-Way to Halloween Game! \n\n\n\n\nGame Highlight: Halloween Costume Dress-Up \nBust out those Halloween costumes and wear them to our Half-Way to Halloween Game! \n\n\n\n\n\n\n\n\n\nGame Highlight: Half-Way to Halloween Specialty Jersey Auction Begins \nBid on the Cardinals game-worn Half-Way to Halloween Specialty Jerseys\, benefiting Isabel’s House. Auction ends 5/14. | Presented By Isabel’s House
URL:https://www.old.springfieldmosports.org/event/springfield-cardinals-vs-amarillo-4/
LOCATION:Hammons Field\, 955 E. Trafficway\, Springfield\, MO\, 65802\, United States
CATEGORIES:Community Events
ATTACH;FMTTYPE=image/png:https://www.old.springfieldmosports.org/wp-content/uploads/2019/07/SGF-Cards-e1570115096864.png
END:VEVENT
BEGIN:VEVENT
DTSTART;TZID=America/Chicago:20220512T183500
DTEND;TZID=America/Chicago:20220512T210000
DTSTAMP:20260424T072418
CREATED:20220503T164327Z
LAST-MODIFIED:20220503T164327Z
UID:2038-1652380500-1652389200@www.old.springfieldmosports.org
SUMMARY:Springfield Cardinals vs. Amarillo
DESCRIPTION:  \nPromotions: Thirsty Thursday(TM) \nFans 21+ can enjoy drink specials on adult beverages all game every Thursday!
URL:https://www.old.springfieldmosports.org/event/springfield-cardinals-vs-amarillo-3/
LOCATION:Hammons Field\, 955 E. Trafficway\, Springfield\, MO\, 65802\, United States
CATEGORIES:Community Events
ATTACH;FMTTYPE=image/png:https://www.old.springfieldmosports.org/wp-content/uploads/2019/07/SGF-Cards-e1570115096864.png
END:VEVENT
BEGIN:VEVENT
DTSTART;TZID=America/Chicago:20220511T113000
DTEND;TZID=America/Chicago:20220511T150000
DTSTAMP:20260424T072418
CREATED:20220503T162328Z
LAST-MODIFIED:20220503T162328Z
UID:2037-1652268600-1652281200@www.old.springfieldmosports.org
SUMMARY:Springfield Cardinals vs. Amarillo
DESCRIPTION:Promotions: Day Baseball \nBaseball is better than work. Need we say more? Enjoy some warm sunshine\, a hot dog\, and an early edition of Cardinals baseball
URL:https://www.old.springfieldmosports.org/event/springfield-cardinals-vs-amarillo-2/
LOCATION:Hammons Field\, 955 E. Trafficway\, Springfield\, MO\, 65802\, United States
CATEGORIES:Community Events
ATTACH;FMTTYPE=image/png:https://www.old.springfieldmosports.org/wp-content/uploads/2019/07/SGF-Cards-e1570115096864.png
END:VEVENT
BEGIN:VEVENT
DTSTART;VALUE=DATE:20220511
DTEND;VALUE=DATE:20220513
DTSTAMP:20260424T072418
CREATED:20220502T200720Z
LAST-MODIFIED:20220510T155333Z
UID:2018-1652227200-1652399999@www.old.springfieldmosports.org
SUMMARY:National Homeschool Invitational Track and Field Championships
DESCRIPTION:$25 for each individual runner\nOR for team fee of $125 per gender and Age group- 5 or more athletes \nTriathlon Fee-$20\nPentathlon Fee-$25 \nAll participants must be homeschooled at least 50% of their classes OR be invited as a school\nThe track is and all purpose tartan track 1/8″ spikes are recommended.
URL:https://www.old.springfieldmosports.org/event/national-homeschool-invitational-track-and-field-championships/
LOCATION:Southwest Baptist University\, 1260 S Pike Ave.\, Bolivar\, MO\, 65613\, United States
CATEGORIES:Upcoming Events
ATTACH;FMTTYPE=image/png:https://www.old.springfieldmosports.org/wp-content/uploads/2019/07/nchc-e1562872958361.png
END:VEVENT
BEGIN:VEVENT
DTSTART;TZID=America/Chicago:20220510T113000
DTEND;TZID=America/Chicago:20220510T150000
DTSTAMP:20260424T072418
CREATED:20220503T154416Z
LAST-MODIFIED:20220503T154416Z
UID:2036-1652182200-1652194800@www.old.springfieldmosports.org
SUMMARY:Springfield Cardinals vs. Amarillo
DESCRIPTION:  \nPromotions: Great Southern Bank $2 Tuesday \nEnjoy delicious ballpark hot dogs and bratwursts for just $2 every Tuesday!\nPresented by Great Southern Bank
URL:https://www.old.springfieldmosports.org/event/springfield-cardinals-vs-amarillo/
LOCATION:Hammons Field\, 955 E. Trafficway\, Springfield\, MO\, 65802\, United States
CATEGORIES:Community Events
ATTACH;FMTTYPE=image/png:https://www.old.springfieldmosports.org/wp-content/uploads/2019/07/SGF-Cards-e1570115096864.png
END:VEVENT
BEGIN:VEVENT
DTSTART;VALUE=DATE:20220509
DTEND;VALUE=DATE:20220513
DTSTAMP:20260424T072418
CREATED:20220510T155214Z
LAST-MODIFIED:20220510T155245Z
UID:2051-1652054400-1652399999@www.old.springfieldmosports.org
SUMMARY:National Christian Homeschool Spring Nationals
DESCRIPTION:Springfield is host to the 2022 NCHC Spring Nationals from May 9-12. The Spring Nationals consist of the NCHC Girls Soccer Championship at Lake Country Soccer\, the NCHC Golf Championship at Rivercut Golf Course and the NCHC Track & Field Championship at SBU in Bolivar
URL:https://www.old.springfieldmosports.org/event/national-christian-homeschool-spring-nationals-2/
LOCATION:Springfield\, MO\, United States
ATTACH;FMTTYPE=image/png:https://www.old.springfieldmosports.org/wp-content/uploads/2019/07/nchc-e1562872958361.png
END:VEVENT
BEGIN:VEVENT
DTSTART;VALUE=DATE:20220509
DTEND;VALUE=DATE:20220512
DTSTAMP:20260424T072418
CREATED:20220502T200119Z
LAST-MODIFIED:20220510T155409Z
UID:2017-1652054400-1652313599@www.old.springfieldmosports.org
SUMMARY:12th Annual National Homeschool Golf Championships
DESCRIPTION:2022 will be the 12th year for this event. Over the past 11 tournaments have seen participants from Alabama\, Arkansas\, California\, Georgia\, Florida\, Illinois\, Indiana\, Kansas\, Kentucky\, Michigan\, Missouri\, North Carolina\, Ohio\, Oklahoma\, Pennsylvania\, South Carolina\, Tennessee\, Texas\, Washington\, and Wisconsin. The 2022 Nationals is projected to be the largest field of participants we have ever had. The first day of the 2022 tournament will feature the 18u Boys playing 36 holes. There is a new name for the team trophy and a few more changes that will be sent out and posted on social media. See below for more details about the 2022 Championship along with past years results and some of our past participants.
URL:https://www.old.springfieldmosports.org/event/12th-annual-national-homeschool-golf-championships/
LOCATION:Rivercut Golf Course\, 2850 W Farm Rd 190\, Springfield\, MO\, 65810\, United States
CATEGORIES:Upcoming Events
ATTACH;FMTTYPE=image/png:https://www.old.springfieldmosports.org/wp-content/uploads/2019/07/nchc-e1562872958361.png
END:VEVENT
BEGIN:VEVENT
DTSTART;VALUE=DATE:20220509
DTEND;VALUE=DATE:20220511
DTSTAMP:20260424T072418
CREATED:20220502T201205Z
LAST-MODIFIED:20220502T201205Z
UID:2019-1652054400-1652227199@www.old.springfieldmosports.org
SUMMARY:2022 National Homeschool Invitational Girls Soccer Tournament
DESCRIPTION:Lake Country Fields\nSpringfield MO\n3 or 4 games guarantee\nCost $550 per team\nPool Play on Monday starting around noon\nBracket play on Tuesday starting at 9am and finishing around 3pm\nRegister on the lamarsportsnetwork.com  website under registration under team
URL:https://www.old.springfieldmosports.org/event/2022-national-homeschool-invitational-girls-soccer-tournament/
LOCATION:Lake Country Soccer\, 2334 EAST PYTHIAN STREET\, Springfield\, MO\, 65802\, United States
CATEGORIES:Upcoming Events
ATTACH;FMTTYPE=image/png:https://www.old.springfieldmosports.org/wp-content/uploads/2019/07/nchc-e1562872958361.png
END:VEVENT
BEGIN:VEVENT
DTSTART;TZID=America/Chicago:20220508T180500
DTEND;TZID=America/Chicago:20220508T213000
DTSTAMP:20260424T072418
CREATED:20220503T140704Z
LAST-MODIFIED:20220503T140704Z
UID:2034-1652033100-1652045400@www.old.springfieldmosports.org
SUMMARY:Springfield Cardinals vs. NW Arkansas
DESCRIPTION:Promotions: Hiland Dairy Ice Cream Sunday \nAll kids can enjoy free ice cream from Hiland Dairy before every Sunday game!\nPresented by Hiland Dairy
URL:https://www.old.springfieldmosports.org/event/springfield-cardinals-vs-nw-arkansas-6/
LOCATION:Hammons Field\, 955 E. Trafficway\, Springfield\, MO\, 65802\, United States
CATEGORIES:Community Events
ATTACH;FMTTYPE=image/png:https://www.old.springfieldmosports.org/wp-content/uploads/2019/07/SGF-Cards-e1570115096864.png
END:VEVENT
BEGIN:VEVENT
DTSTART;TZID=America/Chicago:20220508T140000
DTEND;TZID=America/Chicago:20220508T170000
DTSTAMP:20260424T072418
CREATED:20220502T181451Z
LAST-MODIFIED:20220502T181451Z
UID:2006-1652018400-1652029200@www.old.springfieldmosports.org
SUMMARY:Contender eSports - Rocket League Cross Center
DESCRIPTION:Compete against teams from other Contender Esports locations across the country.\nIT’S COMPLETELY FREE to enter!\nRULES AND FORMAT\nThis event is run in the Rocket League Create Private Game mode. You must sign up with a team of 3. Be sure to enter the names of your teammates into your signup form and your team name.\nThe tournament will be played as a best of three double elimination bracket.\nPrize Pool:\n1st $150\n2nd $60
URL:https://www.old.springfieldmosports.org/event/contender-esports-rocket-league-cross-center/
LOCATION:Contender eSports\, 3010 S National Ave.\, Springfield\, MO\, 65804\, United States
CATEGORIES:Community Events
ATTACH;FMTTYPE=image/jpeg:https://www.old.springfieldmosports.org/wp-content/uploads/2021/03/Contender-eSPORTS-FINAL.jpg
END:VEVENT
BEGIN:VEVENT
DTSTART;TZID=America/Chicago:20220507T183500
DTEND;TZID=America/Chicago:20220507T213000
DTSTAMP:20260424T072418
CREATED:20220503T140453Z
LAST-MODIFIED:20220503T140453Z
UID:2033-1651948500-1651959000@www.old.springfieldmosports.org
SUMMARY:Springfield Cardinals vs. NW Arkansas
DESCRIPTION:  \nPromotions: St. Louis Cardinals 2022 Ticket for Two Voucher Giveaway \n2\,000 fans will receive a voucher good for two tickets to a 2022 St. Louis Cardinals regular season game!
URL:https://www.old.springfieldmosports.org/event/springfield-cardinals-vs-nw-arkansas-5/
LOCATION:Hammons Field\, 955 E. Trafficway\, Springfield\, MO\, 65802\, United States
CATEGORIES:Community Events
ATTACH;FMTTYPE=image/png:https://www.old.springfieldmosports.org/wp-content/uploads/2019/07/SGF-Cards-e1570115096864.png
END:VEVENT
BEGIN:VEVENT
DTSTART;TZID=America/Chicago:20220506T183500
DTEND;TZID=America/Chicago:20220506T213000
DTSTAMP:20260424T072418
CREATED:20220503T135813Z
LAST-MODIFIED:20220503T135813Z
UID:2032-1651862100-1651872600@www.old.springfieldmosports.org
SUMMARY:Springfield Cardinals vs. NW Arkansas
DESCRIPTION:  \nPromotions: Kids Dance Party Fans-On-Field Fireworks \nAll kids (even adult ones) are invited to bust a move and enjoy an incredible kids-themed fireworks show
URL:https://www.old.springfieldmosports.org/event/springfield-cardinals-vs-nw-arkansas-4/
LOCATION:Hammons Field\, 955 E. Trafficway\, Springfield\, MO\, 65802\, United States
CATEGORIES:Community Events
ATTACH;FMTTYPE=image/png:https://www.old.springfieldmosports.org/wp-content/uploads/2019/07/SGF-Cards-e1570115096864.png
END:VEVENT
BEGIN:VEVENT
DTSTART;TZID=America/Chicago:20220505T183500
DTEND;TZID=America/Chicago:20220505T213000
DTSTAMP:20260424T072418
CREATED:20220503T133928Z
LAST-MODIFIED:20220503T133928Z
UID:2031-1651775700-1651786200@www.old.springfieldmosports.org
SUMMARY:Springfield Cardinals vs. NW Arkansas
DESCRIPTION:  \nPromotions: Thirsty Thursday(TM) \nFans 21+ can enjoy drink specials on adult beverages all game every Thursday!
URL:https://www.old.springfieldmosports.org/event/springfield-cardinals-vs-nw-arkansas-3/
LOCATION:Hammons Field\, 955 E. Trafficway\, Springfield\, MO\, 65802\, United States
CATEGORIES:Community Events
ATTACH;FMTTYPE=image/png:https://www.old.springfieldmosports.org/wp-content/uploads/2019/07/SGF-Cards-e1570115096864.png
END:VEVENT
BEGIN:VEVENT
DTSTART;TZID=America/Chicago:20220504T183500
DTEND;TZID=America/Chicago:20220504T210000
DTSTAMP:20260424T072418
CREATED:20220502T215918Z
LAST-MODIFIED:20220502T215918Z
UID:2030-1651689300-1651698000@www.old.springfieldmosports.org
SUMMARY:Springfield Cardinals vs. NW Arkansas
DESCRIPTION:Promotions: Purina Woof Wednesday \nBaseball and your best friend! Dogs are welcome every Wednesday night game. Please enter through Gate 3 with your good boy…\nPresented by Purina
URL:https://www.old.springfieldmosports.org/event/springfield-cardinals-vs-nw-arkansas-2/
LOCATION:Hammons Field\, 955 E. Trafficway\, Springfield\, MO\, 65802\, United States
CATEGORIES:Community Events
ATTACH;FMTTYPE=image/png:https://www.old.springfieldmosports.org/wp-content/uploads/2019/07/SGF-Cards-e1570115096864.png
END:VEVENT
END:VCALENDAR