BEGIN:VCALENDAR
VERSION:2.0
PRODID:-//Springfield Sports Commission - ECPv6.11.2.1//NONSGML v1.0//EN
CALSCALE:GREGORIAN
METHOD:PUBLISH
X-ORIGINAL-URL:https://www.old.springfieldmosports.org
X-WR-CALDESC:Events for Springfield Sports Commission
REFRESH-INTERVAL;VALUE=DURATION:PT1H
X-Robots-Tag:noindex
X-PUBLISHED-TTL:PT1H
BEGIN:VTIMEZONE
TZID:America/Chicago
BEGIN:DAYLIGHT
TZOFFSETFROM:-0600
TZOFFSETTO:-0500
TZNAME:CDT
DTSTART:20230312T080000
END:DAYLIGHT
BEGIN:STANDARD
TZOFFSETFROM:-0500
TZOFFSETTO:-0600
TZNAME:CST
DTSTART:20231105T070000
END:STANDARD
END:VTIMEZONE
BEGIN:VEVENT
DTSTART;TZID=America/Chicago:20230320T180000
DTEND;TZID=America/Chicago:20230320T220000
DTSTAMP:20260419T125445
CREATED:20230320T192850Z
LAST-MODIFIED:20230320T192850Z
UID:2634-1679335200-1679349600@www.old.springfieldmosports.org
SUMMARY:Smash Weekly Tournament
DESCRIPTION:Smash Weekly Tournament\nEvery Monday at 6PM\nEveryone is welcome!\nInvite your family and friends and join us … it’s always a great time.\nSmash Unlimited Passes available at springfieldesports.com\n 3010 S National Ave\, Springfield\, MO\n 417-414-0806\n https://discord.gg/KpsYFcMsH9\n springfieldesports.com
URL:https://www.old.springfieldmosports.org/event/smash-weekly-tournament/
LOCATION:Contender eSports\, 3010 S National Ave.\, Springfield\, MO\, 65804\, United States
CATEGORIES:Community Events
ATTACH;FMTTYPE=image/jpeg:https://www.old.springfieldmosports.org/wp-content/uploads/2022/09/Contender-eSPORTS-FINAL.jpg
ORGANIZER;CN="Contender eSports":MAILTO:cessgf@gmail.com
END:VEVENT
BEGIN:VEVENT
DTSTART;TZID=America/Chicago:20230813T180000
DTEND;TZID=America/Chicago:20230813T210000
DTSTAMP:20260419T125445
CREATED:20230427T143006Z
LAST-MODIFIED:20230427T143006Z
UID:2742-1691949600-1691960400@www.old.springfieldmosports.org
SUMMARY:Springfield Cardinals vs. San Antonio
DESCRIPTION:Sunbelt Bakery Louie Bobblebody Giveaway (2\,000)
URL:https://www.old.springfieldmosports.org/event/springfield-cardinals-vs-san-antonio-12/
LOCATION:Hammons Field\, 955 E. Trafficway\, Springfield\, MO\, 65802\, United States
CATEGORIES:Community Events
ATTACH;FMTTYPE=image/png:https://www.old.springfieldmosports.org/wp-content/uploads/2019/07/SGF-Cards-e1570115096864.png
END:VEVENT
BEGIN:VEVENT
DTSTART;TZID=America/Chicago:20230812T183000
DTEND;TZID=America/Chicago:20230812T213000
DTSTAMP:20260419T125445
CREATED:20230427T142818Z
LAST-MODIFIED:20230807T155634Z
UID:2741-1691865000-1691875800@www.old.springfieldmosports.org
SUMMARY:Springfield Cardinals vs. San Antonio
DESCRIPTION:St. Louis Cardinals “YADI” Tumbler Giveaway (2\,000)
URL:https://www.old.springfieldmosports.org/event/springfield-cardinals-vs-san-antonio-11/
LOCATION:Hammons Field\, 955 E. Trafficway\, Springfield\, MO\, 65802\, United States
CATEGORIES:Community Events,Featured
ATTACH;FMTTYPE=image/png:https://www.old.springfieldmosports.org/wp-content/uploads/2019/07/SGF-Cards-e1570115096864.png
END:VEVENT
BEGIN:VEVENT
DTSTART;TZID=America/Chicago:20230812T130000
DTEND;TZID=America/Chicago:20230812T150000
DTSTAMP:20260419T125445
CREATED:20230731T190941Z
LAST-MODIFIED:20230731T190941Z
UID:2931-1691845200-1691852400@www.old.springfieldmosports.org
SUMMARY:Basketball Clinic at Allison SportsTown: ages 12-18: (Payton Richards)
DESCRIPTION:Basketball Clinic at Allison SportsTown: ages 12-18 (Payton Richards)\n\n\nAges: 12-18\nPrice: $50 per Athlete\nLocation: 209 N Airport Blvd. Springfield\, MO \n  \nThis basketball shooting clinic will be ran by former Drury Lady Panther\, Payton Richards! Check her out below: \n  \nhttps://drurypanthers.com/sports/womens-basketball/roster/payton-richards/5563
URL:https://www.old.springfieldmosports.org/event/basketball-clinic-at-allison-sportstown-ages-12-18-payton-richards/
LOCATION:Redline Athletics\, 4234 S Reed Ave.\, Springfield\, MO\, 65804\, United States
CATEGORIES:Community Events
ATTACH;FMTTYPE=image/png:https://www.old.springfieldmosports.org/wp-content/uploads/2022/06/redline.png
END:VEVENT
BEGIN:VEVENT
DTSTART;TZID=America/Chicago:20230812T100000
DTEND;TZID=America/Chicago:20230812T120000
DTSTAMP:20260419T125445
CREATED:20230731T190649Z
LAST-MODIFIED:20230731T190649Z
UID:2930-1691834400-1691841600@www.old.springfieldmosports.org
SUMMARY:Basketball Clinic at Allison SportsTown: ages 8-11 (Payton Richards)
DESCRIPTION:Basketball Clinic at Allison SportsTown: ages 8-11 (Payton Richards)\n\nAges: 8-11\nPrice: $50 per Athlete\nLocation: 209 N Airport Blvd. Springfield\, MO\n\nThis basketball clinic will be ran by former Drury Lady Panther\, Payton Richards! Check her out below:\n\nhttps://drurypanthers.com/sports/womens-basketball/roster/payton-richards/5563\n\nCall 417-319-5766 to sign up!
URL:https://www.old.springfieldmosports.org/event/basketball-clinic-at-allison-sportstown-ages-8-11-payton-richards/
LOCATION:Redline Athletics\, 4234 S Reed Ave.\, Springfield\, MO\, 65804\, United States
CATEGORIES:Community Events
ATTACH;FMTTYPE=image/png:https://www.old.springfieldmosports.org/wp-content/uploads/2022/06/redline.png
END:VEVENT
BEGIN:VEVENT
DTSTART;TZID=America/Chicago:20230811T190000
DTEND;TZID=America/Chicago:20230811T220000
DTSTAMP:20260419T125445
CREATED:20230427T142700Z
LAST-MODIFIED:20230427T142700Z
UID:2740-1691780400-1691791200@www.old.springfieldmosports.org
SUMMARY:Springfield Cardinals vs. San Antonio
DESCRIPTION:Friday Fireworks
URL:https://www.old.springfieldmosports.org/event/springfield-cardinals-vs-san-antonio-10/
LOCATION:Hammons Field\, 955 E. Trafficway\, Springfield\, MO\, 65802\, United States
CATEGORIES:Community Events
ATTACH;FMTTYPE=image/png:https://www.old.springfieldmosports.org/wp-content/uploads/2019/07/SGF-Cards-e1570115096864.png
END:VEVENT
BEGIN:VEVENT
DTSTART;TZID=America/Chicago:20230811T180000
DTEND;TZID=America/Chicago:20230811T210000
DTSTAMP:20260419T125445
CREATED:20230731T160458Z
LAST-MODIFIED:20230731T160458Z
UID:2908-1691776800-1691787600@www.old.springfieldmosports.org
SUMMARY:Family Fishing Fun Night
DESCRIPTION:Bring the whole family for a relaxing evening of catch-and-release fishing in Rutledge-Wilson Farm Park’s stocked pond  All ages welcome! (Kids ages 15 yrs. and under must be accompanied by an adult; 4 yrs. and under FREE w/paid adult) Enjoy the cow train\, a bounce house\, and bring food to cook over a campfire \nREGISTRATION REQUIRED. Registration opens May 1. Call 417-837-5949.\nTIME: 6-9 p.m.\nFEE: $15/Equipment rental or $10/Bring-your-own gear
URL:https://www.old.springfieldmosports.org/event/family-fishing-fun-night/
LOCATION:Rutledge-Wilson Farm Park\, 3825 W. Farm Road 146\, Springfield\, 65802
CATEGORIES:Community Events
ATTACH;FMTTYPE=image/png:https://www.old.springfieldmosports.org/wp-content/uploads/2019/06/parkboard.png
END:VEVENT
BEGIN:VEVENT
DTSTART;TZID=America/Chicago:20230609T180000
DTEND;TZID=America/Chicago:20230609T210000
DTSTAMP:20260419T125445
CREATED:20230508T153040Z
LAST-MODIFIED:20230508T153040Z
UID:2786-1686333600-1686344400@www.old.springfieldmosports.org
SUMMARY:Family Fishing Fun Nights
DESCRIPTION:Bring the whole family for a relaxing evening of catch-and-release fishing in Rutledge-Wilson Farm Park’s stocked pond  All ages welcome! (Kids ages 15 yrs. and under must be accompanied by an adult; 4 yrs. and under FREE w/paid adult) Enjoy the cow train\, a bounce house\, and bring food to cook over a campfire \nREGISTRATION REQUIRED. Registration opens May 1. Call 417-837-5949.\nTIME: 6-9 p.m.\nFEE: $15/Equipment rental or $10/Bring-your-own gear
URL:https://www.old.springfieldmosports.org/event/family-fishing-fun-nights/
LOCATION:Rutledge-Wilson Farm Park\, 3825 W. Farm Road 146\, Springfield\, 65802
CATEGORIES:Community Events
ATTACH;FMTTYPE=image/png:https://www.old.springfieldmosports.org/wp-content/uploads/2019/07/Park-Board.png
END:VEVENT
BEGIN:VEVENT
DTSTART;TZID=America/Chicago:20230810T190000
DTEND;TZID=America/Chicago:20230812T220000
DTSTAMP:20260419T125445
CREATED:20230605T155713Z
LAST-MODIFIED:20230605T155713Z
UID:2801-1691694000-1691877600@www.old.springfieldmosports.org
SUMMARY:2023 National Breeders Championship
DESCRIPTION:The National Breeders Championship is rooted in Springfield\, Missouri. The NBC brings exhibitors from a four-state region into the area and works to advocate and promote the equine industry and businesses within the Springfield area. This three-day show is held at the Ozark Empire Fairgrounds and includes a nightly show schedule highlighting the breed’s best performance horses.
URL:https://www.old.springfieldmosports.org/event/2023-national-breeders-championship/
LOCATION:Ozark Empire Fairgrounds\, 3001 N. Grant Ave.\, Springfield\, MO\, 65803\, United States
CATEGORIES:Community Events
ATTACH;FMTTYPE=image/jpeg:https://www.old.springfieldmosports.org/wp-content/uploads/2019/07/OEF-e1563823028576.jpeg
END:VEVENT
BEGIN:VEVENT
DTSTART;TZID=America/Chicago:20230810T190000
DTEND;TZID=America/Chicago:20230810T220000
DTSTAMP:20260419T125445
CREATED:20230427T142513Z
LAST-MODIFIED:20230427T142513Z
UID:2739-1691694000-1691704800@www.old.springfieldmosports.org
SUMMARY:Springfield Cardinals vs. San Antonio
DESCRIPTION:Loren Cook Company Brendan Donovan 2022 Rawlings Golf Glove Awards Winner Bobblehead Giveaway (2\,000)
URL:https://www.old.springfieldmosports.org/event/springfield-cardinals-vs-san-antonio-9/
LOCATION:Hammons Field\, 955 E. Trafficway\, Springfield\, MO\, 65802\, United States
CATEGORIES:Community Events
ATTACH;FMTTYPE=image/png:https://www.old.springfieldmosports.org/wp-content/uploads/2019/07/SGF-Cards-e1570115096864.png
END:VEVENT
BEGIN:VEVENT
DTSTART;TZID=America/Chicago:20230809T183000
DTEND;TZID=America/Chicago:20230809T213000
DTSTAMP:20260419T125445
CREATED:20230427T142333Z
LAST-MODIFIED:20230427T142333Z
UID:2738-1691605800-1691616600@www.old.springfieldmosports.org
SUMMARY:Springfield Cardinals vs. San Antonio
DESCRIPTION:Purina Woof Wednesday
URL:https://www.old.springfieldmosports.org/event/springfield-cardinals-vs-san-antonio-8/
LOCATION:Hammons Field\, 955 E. Trafficway\, Springfield\, MO\, 65802\, United States
CATEGORIES:Community Events
ATTACH;FMTTYPE=image/png:https://www.old.springfieldmosports.org/wp-content/uploads/2019/07/SGF-Cards-e1570115096864.png
END:VEVENT
BEGIN:VEVENT
DTSTART;TZID=America/Chicago:20230808T183000
DTEND;TZID=America/Chicago:20230808T213000
DTSTAMP:20260419T125445
CREATED:20230427T142206Z
LAST-MODIFIED:20230427T142206Z
UID:2737-1691519400-1691530200@www.old.springfieldmosports.org
SUMMARY:Springfield Cardinals vs. San Antonio
DESCRIPTION:Great Southern Bank $2 Tuesday
URL:https://www.old.springfieldmosports.org/event/springfield-cardinals-vs-san-antonio-7/
LOCATION:Hammons Field\, 955 E. Trafficway\, Springfield\, MO\, 65802\, United States
CATEGORIES:Community Events
ATTACH;FMTTYPE=image/png:https://www.old.springfieldmosports.org/wp-content/uploads/2019/07/SGF-Cards-e1570115096864.png
END:VEVENT
BEGIN:VEVENT
DTSTART;TZID=America/Chicago:20230320T180000
DTEND;TZID=America/Chicago:20230320T220000
DTSTAMP:20260419T125445
CREATED:20230320T192850Z
LAST-MODIFIED:20230320T192850Z
UID:2634-1679335200-1679349600@www.old.springfieldmosports.org
SUMMARY:Smash Weekly Tournament
DESCRIPTION:Smash Weekly Tournament\nEvery Monday at 6PM\nEveryone is welcome!\nInvite your family and friends and join us … it’s always a great time.\nSmash Unlimited Passes available at springfieldesports.com\n 3010 S National Ave\, Springfield\, MO\n 417-414-0806\n https://discord.gg/KpsYFcMsH9\n springfieldesports.com
URL:https://www.old.springfieldmosports.org/event/smash-weekly-tournament/
LOCATION:Contender eSports\, 3010 S National Ave.\, Springfield\, MO\, 65804\, United States
CATEGORIES:Community Events
ATTACH;FMTTYPE=image/jpeg:https://www.old.springfieldmosports.org/wp-content/uploads/2022/09/Contender-eSPORTS-FINAL.jpg
ORGANIZER;CN="Contender eSports":MAILTO:cessgf@gmail.com
END:VEVENT
BEGIN:VEVENT
DTSTART;TZID=America/Chicago:20230806T080000
DTEND;TZID=America/Chicago:20230806T170000
DTSTAMP:20260419T125445
CREATED:20230427T140941Z
LAST-MODIFIED:20230427T140941Z
UID:2736-1691308800-1691341200@www.old.springfieldmosports.org
SUMMARY:Springfield Cardinals vs. NW Arkansas
DESCRIPTION:Hiland Dairy Ice Cream Sunday
URL:https://www.old.springfieldmosports.org/event/springfield-cardinals-vs-nw-arkansas-18/
LOCATION:Hammons Field\, 955 E. Trafficway\, Springfield\, MO\, 65802\, United States
CATEGORIES:Community Events
ATTACH;FMTTYPE=image/png:https://www.old.springfieldmosports.org/wp-content/uploads/2019/07/SGF-Cards-e1570115096864.png
END:VEVENT
BEGIN:VEVENT
DTSTART;TZID=America/Chicago:20230805T183000
DTEND;TZID=America/Chicago:20230805T213000
DTSTAMP:20260419T125445
CREATED:20230427T140837Z
LAST-MODIFIED:20230427T140837Z
UID:2735-1691260200-1691271000@www.old.springfieldmosports.org
SUMMARY:Springfield Cardinals vs. NW Arkansas
DESCRIPTION:Vision Clinic Lars Nootbaar “Grind the Pepper” Bobblehead Giveaway (2\,000)
URL:https://www.old.springfieldmosports.org/event/springfield-cardinals-vs-nw-arkansas-17/
LOCATION:Hammons Field\, 955 E. Trafficway\, Springfield\, MO\, 65802\, United States
CATEGORIES:Community Events
ATTACH;FMTTYPE=image/png:https://www.old.springfieldmosports.org/wp-content/uploads/2019/07/SGF-Cards-e1570115096864.png
END:VEVENT
BEGIN:VEVENT
DTSTART;TZID=America/Chicago:20230805T140000
DTEND;TZID=America/Chicago:20230805T170000
DTSTAMP:20260419T125445
CREATED:20230731T163802Z
LAST-MODIFIED:20230731T163802Z
UID:2912-1691244000-1691254800@www.old.springfieldmosports.org
SUMMARY:Valorant Draft Tournament
DESCRIPTION:Valorant Draft Tournament\nSaturday | August 5 | 2PM\nJoin our Valorant community and get placed into a new draft team.\nCompete for glory\, extra game hours and other prizes!\n 3010 S National Ave\, Springfield\, MO\n 417-414-0806\n https://discord.gg/KpsYFcMsH9\n springfieldesports.com
URL:https://www.old.springfieldmosports.org/event/valorant-draft-tournament/
LOCATION:Contender eSports\, 3010 S National Ave.\, Springfield\, MO\, 65804\, United States
CATEGORIES:Community Events
ATTACH;FMTTYPE=image/jpeg:https://www.old.springfieldmosports.org/wp-content/uploads/2021/03/Contender-eSPORTS-FINAL.jpg
ORGANIZER;CN="Contender eSports":MAILTO:cessgf@gmail.com
END:VEVENT
BEGIN:VEVENT
DTSTART;TZID=America/Chicago:20230805T130000
DTEND;TZID=America/Chicago:20230806T183000
DTSTAMP:20260419T125445
CREATED:20230621T143951Z
LAST-MODIFIED:20230724T141439Z
UID:2810-1691240400-1691346600@www.old.springfieldmosports.org
SUMMARY:Park Day Reunion Splash & Sizzle
DESCRIPTION:Enjoy Splash & Sizzle Discount pool admission ALL WEEKEND in celebration of the Park Day Reunion\, 1-6:30 p.m.\, Sat. and Sun.\, Aug. 5-6 at Silver Springs Pool. \nAdmission to the pools is $1 or FREE with a canned food donation. Donations benefit Ozarks Food Harvest. \nView full outdoor pool schedule and learn more about daily Splash & Sizzle Discounts and holidays: ParkBoard.org/Aquatics
URL:https://www.old.springfieldmosports.org/event/park-day-reunion-splash-sizzle/
LOCATION:Silver Springs Park and Pool\, 1100 N. Hampton Ave.\, Springfield\, MO\, 65802\, United States
CATEGORIES:Community Events,Featured
ATTACH;FMTTYPE=image/png:https://www.old.springfieldmosports.org/wp-content/uploads/2019/07/Park-Board.png
END:VEVENT
BEGIN:VEVENT
DTSTART;TZID=America/Chicago:20230804T190000
DTEND;TZID=America/Chicago:20230804T220000
DTSTAMP:20260419T125445
CREATED:20230427T140702Z
LAST-MODIFIED:20230427T140702Z
UID:2734-1691175600-1691186400@www.old.springfieldmosports.org
SUMMARY:Springfield Cardinals vs. NW Arkansas
DESCRIPTION:Friday Fireworks
URL:https://www.old.springfieldmosports.org/event/springfield-cardinals-vs-nw-arkansas-16/
LOCATION:Hammons Field\, 955 E. Trafficway\, Springfield\, MO\, 65802\, United States
CATEGORIES:Community Events
ATTACH;FMTTYPE=image/png:https://www.old.springfieldmosports.org/wp-content/uploads/2019/07/SGF-Cards-e1570115096864.png
END:VEVENT
BEGIN:VEVENT
DTSTART;TZID=America/Chicago:20230804T173000
DTEND;TZID=America/Chicago:20230804T183000
DTSTAMP:20260419T125445
CREATED:20230731T190211Z
LAST-MODIFIED:20230731T190211Z
UID:2927-1691170200-1691173800@www.old.springfieldmosports.org
SUMMARY:Volleyball Skills and Mechanics with Olivia Steimel
DESCRIPTION:Price: $25 per Athlete\nTime: 5:30-6:30pm\nLocation: Betty and Bobby Allison SportsTown (209 N Airport Blvd.)\n\nStarts Friday\, June 23rd and will continue every Friday after that for the remainder of the summer.\n\nThis volleyball clinic will be ran by current player for Evangel University\, Olivia Steimel.\n\nThis clinic will cover the correct footwork\, body positioning and mental approach to help your athlete compete at the next level and be ready for the next season!\n\nPlease call 417-319-5766 or call Allison Sportstown at 417-530-1600 to sign up!\n\nLIMITED SPOTS AVAILABLE!
URL:https://www.old.springfieldmosports.org/event/volleyball-skills-and-mechanics-with-olivia-steimel-4/
LOCATION:Allison Sports Town\, 209 Airport Blvd\, Springfield\, MO\, 65802\, United States
CATEGORIES:Community Events
ATTACH;FMTTYPE=image/png:https://www.old.springfieldmosports.org/wp-content/uploads/2022/06/redline.png
END:VEVENT
BEGIN:VEVENT
DTSTART;TZID=America/Chicago:20230804T170000
DTEND;TZID=America/Chicago:20230804T210000
DTSTAMP:20260419T125445
CREATED:20230731T163346Z
LAST-MODIFIED:20230731T163346Z
UID:2911-1691168400-1691182800@www.old.springfieldmosports.org
SUMMARY:Fortnite Solos Tournament
DESCRIPTION:Fortnite Solos Tournament\nFriday | August 4 | 5PM\nEveryone is Welcome!\n 3010 S National Ave\, Springfield\, MO\n 417-414-0806\n https://discord.gg/KpsYFcMsH9\n springfieldesports.com\nThis event is in no way sponsored\, endorsed or administered by or associated with\, Epic Games\, Inc. The information players provide in connection with this event is being provided to the event organizer and not to Epic Games\, Inc
URL:https://www.old.springfieldmosports.org/event/fortnite-solos-tournament/
LOCATION:Contender eSports\, 3010 S National Ave.\, Springfield\, MO\, 65804\, United States
CATEGORIES:Community Events
ATTACH;FMTTYPE=image/jpeg:https://www.old.springfieldmosports.org/wp-content/uploads/2021/03/Contender-eSPORTS-FINAL.jpg
ORGANIZER;CN="Contender eSports":MAILTO:cessgf@gmail.com
END:VEVENT
BEGIN:VEVENT
DTSTART;TZID=America/Chicago:20230803T193000
DTEND;TZID=America/Chicago:20230803T203000
DTSTAMP:20260419T125445
CREATED:20230731T172230Z
LAST-MODIFIED:20230731T172230Z
UID:2916-1691091000-1691094600@www.old.springfieldmosports.org
SUMMARY:SEArenity Yoga at Wonders of Wildlife
DESCRIPTION:We invite you to join us for a unique yoga experience within the aquarium. Find your zen as our certified yoga instructor leads you through an hour of relaxation and restorative yoga practices.\nAll skill levels welcome. Please bring a yoga mat\, and any props you may need (blocks\, blanket\, band).\nLearn more on our website: wondersofwildlife.org/events
URL:https://www.old.springfieldmosports.org/event/searenity-yoga-at-wonders-of-wildlife/
LOCATION:Wonders of Wildlife\, 500 W. Sunshine St.\, Springfield\, MO\, 65807\, United States
CATEGORIES:Community Events
ATTACH;FMTTYPE=image/jpeg:https://www.old.springfieldmosports.org/wp-content/uploads/2019/06/WOW-e1562699295884.jpeg
END:VEVENT
BEGIN:VEVENT
DTSTART;TZID=America/Chicago:20230803T190000
DTEND;TZID=America/Chicago:20230803T220000
DTSTAMP:20260419T125445
CREATED:20230427T140535Z
LAST-MODIFIED:20230427T140535Z
UID:2733-1691089200-1691100000@www.old.springfieldmosports.org
SUMMARY:Springfield Cardinals vs. NW Arkansas
DESCRIPTION:Aaron Sachs & Associates Route 66 Super Soft Shirt Giveaway
URL:https://www.old.springfieldmosports.org/event/springfield-cardinals-vs-nw-arkansas-15/
LOCATION:Hammons Field\, 955 E. Trafficway\, Springfield\, MO\, 65802\, United States
CATEGORIES:Community Events
ATTACH;FMTTYPE=image/png:https://www.old.springfieldmosports.org/wp-content/uploads/2019/07/SGF-Cards-e1570115096864.png
END:VEVENT
BEGIN:VEVENT
DTSTART;TZID=America/Chicago:20230802T080000
DTEND;TZID=America/Chicago:20230802T170000
DTSTAMP:20260419T125445
CREATED:20230427T140427Z
LAST-MODIFIED:20230427T140427Z
UID:2732-1690963200-1690995600@www.old.springfieldmosports.org
SUMMARY:Springfield Cardinals vs. NW Arkansas
DESCRIPTION:Purina Woof Wednesday
URL:https://www.old.springfieldmosports.org/event/springfield-cardinals-vs-nw-arkansas-14/
LOCATION:Hammons Field\, 955 E. Trafficway\, Springfield\, MO\, 65802\, United States
CATEGORIES:Community Events
ATTACH;FMTTYPE=image/png:https://www.old.springfieldmosports.org/wp-content/uploads/2019/07/SGF-Cards-e1570115096864.png
END:VEVENT
BEGIN:VEVENT
DTSTART;TZID=America/Chicago:20230801T183000
DTEND;TZID=America/Chicago:20230801T213000
DTSTAMP:20260419T125445
CREATED:20230427T140307Z
LAST-MODIFIED:20230427T140307Z
UID:2731-1690914600-1690925400@www.old.springfieldmosports.org
SUMMARY:Springfield Cardinals vs. NW Arkansas
DESCRIPTION:Great Southern Bank $2 Tuesday
URL:https://www.old.springfieldmosports.org/event/springfield-cardinals-vs-nw-arkansas-13/
LOCATION:Hammons Field\, 955 E. Trafficway\, Springfield\, MO\, 65802\, United States
CATEGORIES:Community Events
ATTACH;FMTTYPE=image/png:https://www.old.springfieldmosports.org/wp-content/uploads/2019/07/SGF-Cards-e1570115096864.png
END:VEVENT
BEGIN:VEVENT
DTSTART;TZID=America/Chicago:20230320T180000
DTEND;TZID=America/Chicago:20230320T220000
DTSTAMP:20260419T125445
CREATED:20230320T192850Z
LAST-MODIFIED:20230320T192850Z
UID:2634-1679335200-1679349600@www.old.springfieldmosports.org
SUMMARY:Smash Weekly Tournament
DESCRIPTION:Smash Weekly Tournament\nEvery Monday at 6PM\nEveryone is welcome!\nInvite your family and friends and join us … it’s always a great time.\nSmash Unlimited Passes available at springfieldesports.com\n 3010 S National Ave\, Springfield\, MO\n 417-414-0806\n https://discord.gg/KpsYFcMsH9\n springfieldesports.com
URL:https://www.old.springfieldmosports.org/event/smash-weekly-tournament/
LOCATION:Contender eSports\, 3010 S National Ave.\, Springfield\, MO\, 65804\, United States
CATEGORIES:Community Events
ATTACH;FMTTYPE=image/jpeg:https://www.old.springfieldmosports.org/wp-content/uploads/2022/09/Contender-eSPORTS-FINAL.jpg
ORGANIZER;CN="Contender eSports":MAILTO:cessgf@gmail.com
END:VEVENT
BEGIN:VEVENT
DTSTART;VALUE=DATE:20230729
DTEND;VALUE=DATE:20230730
DTSTAMP:20260419T125445
CREATED:20230711T170544Z
LAST-MODIFIED:20230717T140428Z
UID:2882-1690588800-1690675199@www.old.springfieldmosports.org
SUMMARY:5v5 Soccer Tournament
DESCRIPTION:Divisions: U7 – Adult | Boys & Girls\nMax Roster: 10\nTeam Fee: $300-400 \nDetails: \n\nREGISTER NOW!!! (ANYONE CAN CREATE A COACHES ACCOUNT AND REGISTER A TEAM) Click the age group below to register your team. You will select the age group based on birth year of your oldest player. Groups will be combined +/- 1 year and similar ability level.\nFormat 4+GK\nTournament FAQ\nAll player wavers must be completed online. Must click bottom option for free player waiver.\nRegister now and add your players later. Haven’t finalized your roster yet? That’s OK\, with 5v5 you can register your team and add players up until check-in.\n5v5 Open to all teams U7 to Adults\nThe top 3 teams  earn medals\n5v5 Cost: $300 early\, $350 regular and $400 late\n4-game guarantee\nEarly deadline: Save $50 if you register 10 days prior\nCheck-in: At the fields\, 30 minutes before your first game.\nThis is a non-sanctioned event so it’s open to all teams from all States.\n5v5 National Championship: Join us in Central Florida\, top teams will qualify for the 2023 5v5 Nationals. Click here for more details! \n\nPlayers will need proof of age in the form of player cards\, birth certificates\, team rosters\, passports\, or school IDs.\n \nQuestions? Email tymber@sgfsports.com
URL:https://www.old.springfieldmosports.org/event/5v5-soccer-tournament/
LOCATION:Allison Sports Town\, 209 Airport Blvd\, Springfield\, MO\, 65802\, United States
CATEGORIES:Community Events,Featured
ATTACH;FMTTYPE=image/png:https://www.old.springfieldmosports.org/wp-content/uploads/2023/07/5V5_MetallicBlack_1022-1-q36djge8yczh5jlz6xqc3g2r5vvsjwswc13ut4nz68.png
END:VEVENT
BEGIN:VEVENT
DTSTART;TZID=America/Chicago:20230320T180000
DTEND;TZID=America/Chicago:20230320T220000
DTSTAMP:20260419T125445
CREATED:20230320T192850Z
LAST-MODIFIED:20230320T192850Z
UID:2634-1679335200-1679349600@www.old.springfieldmosports.org
SUMMARY:Smash Weekly Tournament
DESCRIPTION:Smash Weekly Tournament\nEvery Monday at 6PM\nEveryone is welcome!\nInvite your family and friends and join us … it’s always a great time.\nSmash Unlimited Passes available at springfieldesports.com\n 3010 S National Ave\, Springfield\, MO\n 417-414-0806\n https://discord.gg/KpsYFcMsH9\n springfieldesports.com
URL:https://www.old.springfieldmosports.org/event/smash-weekly-tournament/
LOCATION:Contender eSports\, 3010 S National Ave.\, Springfield\, MO\, 65804\, United States
CATEGORIES:Community Events
ATTACH;FMTTYPE=image/jpeg:https://www.old.springfieldmosports.org/wp-content/uploads/2022/09/Contender-eSPORTS-FINAL.jpg
ORGANIZER;CN="Contender eSports":MAILTO:cessgf@gmail.com
END:VEVENT
BEGIN:VEVENT
DTSTART;TZID=America/Chicago:20230723T180000
DTEND;TZID=America/Chicago:20230723T210000
DTSTAMP:20260419T125445
CREATED:20230426T154657Z
LAST-MODIFIED:20230426T154657Z
UID:2730-1690135200-1690146000@www.old.springfieldmosports.org
SUMMARY:Springfield Cardinals vs. Arkansas
DESCRIPTION:Hiland Dairy Ice Cream Sunday
URL:https://www.old.springfieldmosports.org/event/springfield-cardinals-vs-arkansas-12/
LOCATION:Hammons Field\, 955 E. Trafficway\, Springfield\, MO\, 65802\, United States
CATEGORIES:Community Events
ATTACH;FMTTYPE=image/png:https://www.old.springfieldmosports.org/wp-content/uploads/2019/07/SGF-Cards-e1570115096864.png
END:VEVENT
BEGIN:VEVENT
DTSTART;TZID=America/Chicago:20230722T183000
DTEND;TZID=America/Chicago:20230722T213000
DTSTAMP:20260419T125445
CREATED:20230426T154552Z
LAST-MODIFIED:20230426T154552Z
UID:2729-1690050600-1690061400@www.old.springfieldmosports.org
SUMMARY:Springfield Cardinals vs. Arkansas
DESCRIPTION:American National Christmas in July Elf Bobblehead Giveaway (2\,000)
URL:https://www.old.springfieldmosports.org/event/springfield-cardinals-vs-arkansas-11/
LOCATION:Hammons Field\, 955 E. Trafficway\, Springfield\, MO\, 65802\, United States
CATEGORIES:Community Events
ATTACH;FMTTYPE=image/png:https://www.old.springfieldmosports.org/wp-content/uploads/2019/07/SGF-Cards-e1570115096864.png
END:VEVENT
BEGIN:VEVENT
DTSTART;TZID=America/Chicago:20230722T103000
DTEND;TZID=America/Chicago:20230722T120000
DTSTAMP:20260419T125445
CREATED:20230621T150707Z
LAST-MODIFIED:20230621T150707Z
UID:2813-1690021800-1690027200@www.old.springfieldmosports.org
SUMMARY:Walking Tours of Historic C-Street
DESCRIPTION:Enjoy this strolling\, guided walking tour that explores all 6 blocks of Historic Commercial Street. Hosted by History Museum on the Square in partnership with Commercial Club of Springfield\, learn about the impact of the railroad\, the relationship between North and South Springfield\, and the society and culture of C-Street.
URL:https://www.old.springfieldmosports.org/event/walking-tours-of-historic-c-street/
LOCATION:Commercial Street Historic District\, 299 E Commercial st\, Springfield\, MO\, 65803\, United States
CATEGORIES:Community Events
ATTACH;FMTTYPE=image/jpeg:https://www.old.springfieldmosports.org/wp-content/uploads/2023/05/C-street-CID-logo.jpg
END:VEVENT
END:VCALENDAR